BEGIN:VCALENDAR
VERSION:2.0
PRODID:-//eventon.com NONSGML v1.0//EN
CALSCALE:GREGORIAN
METHOD:PUBLISH
BEGIN:VEVENT
UID:69e8a524a1e4b
DTSTAMP:20260422T103828Z
DTSTART:20260925
DTEND:20260926
LOCATION:
SUMMARY:Heuriger
DESCRIPTION:\nhttps://www.lienerwein.at/Termine/heuriger-4/
URL:https://www.lienerwein.at/Termine/heuriger-4/
END:VEVENT
END:VCALENDAR